BEGIN:VCALENDAR
VERSION:2.0
PRODID:-//HumanGayMale - ECPv6.15.20//NONSGML v1.0//EN
CALSCALE:GREGORIAN
METHOD:PUBLISH
X-WR-CALNAME:HumanGayMale
X-ORIGINAL-URL:https://humangaymale.com
X-WR-CALDESC:Events for HumanGayMale
REFRESH-INTERVAL;VALUE=DURATION:PT1H
X-Robots-Tag:noindex
X-PUBLISHED-TTL:PT1H
BEGIN:VTIMEZONE
TZID:Europe/London
BEGIN:DAYLIGHT
TZOFFSETFROM:+0000
TZOFFSETTO:+0100
TZNAME:BST
DTSTART:20250330T010000
END:DAYLIGHT
BEGIN:STANDARD
TZOFFSETFROM:+0100
TZOFFSETTO:+0000
TZNAME:GMT
DTSTART:20251026T010000
END:STANDARD
BEGIN:DAYLIGHT
TZOFFSETFROM:+0000
TZOFFSETTO:+0100
TZNAME:BST
DTSTART:20260329T010000
END:DAYLIGHT
BEGIN:STANDARD
TZOFFSETFROM:+0100
TZOFFSETTO:+0000
TZNAME:GMT
DTSTART:20261025T010000
END:STANDARD
BEGIN:DAYLIGHT
TZOFFSETFROM:+0000
TZOFFSETTO:+0100
TZNAME:BST
DTSTART:20270328T010000
END:DAYLIGHT
BEGIN:STANDARD
TZOFFSETFROM:+0100
TZOFFSETTO:+0000
TZNAME:GMT
DTSTART:20271031T010000
END:STANDARD
END:VTIMEZONE
BEGIN:VEVENT
DTSTART;TZID=Europe/London:20260613T130000
DTEND;TZID=Europe/London:20260613T180000
DTSTAMP:20260423T130009
CREATED:20251221T171949Z
LAST-MODIFIED:20251221T171949Z
UID:994-1781355600-1781373600@humangaymale.com
SUMMARY:Alternative to Cardiff Pride
DESCRIPTION:
URL:https://humangaymale.com/calendar/alternative-to-cardiff-pride
CATEGORIES:Alternative to Pride
END:VEVENT
BEGIN:VEVENT
DTSTART;TZID=Europe/London:20260616T180000
DTEND;TZID=Europe/London:20260616T230000
DTSTAMP:20260423T130009
CREATED:20251221T171113Z
LAST-MODIFIED:20251221T171113Z
UID:952-1781632800-1781650800@humangaymale.com
SUMMARY:London
DESCRIPTION:
URL:https://humangaymale.com/calendar/london-5
CATEGORIES:Social
END:VEVENT
BEGIN:VEVENT
DTSTART;TZID=Europe/London:20260620T130000
DTEND;TZID=Europe/London:20260620T180000
DTSTAMP:20260423T130009
CREATED:20251221T170945Z
LAST-MODIFIED:20251221T170945Z
UID:933-1781960400-1781978400@humangaymale.com
SUMMARY:Manchester
DESCRIPTION:
URL:https://humangaymale.com/calendar/manchester-6
CATEGORIES:Social
END:VEVENT
BEGIN:VEVENT
DTSTART;TZID=Europe/London:20260620T133000
DTEND;TZID=Europe/London:20260620T180000
DTSTAMP:20260423T130009
CREATED:20251221T171703Z
LAST-MODIFIED:20260404T060524Z
UID:987-1781962200-1781978400@humangaymale.com
SUMMARY:Alternative to Edinburgh Pride
DESCRIPTION:HumanGayMale Scotland
URL:https://humangaymale.com/calendar/alternative-to-edinburgh-pride
CATEGORIES:Alternative to Pride
END:VEVENT
BEGIN:VEVENT
DTSTART;TZID=Europe/London:20260627T130000
DTEND;TZID=Europe/London:20260627T170000
DTSTAMP:20260423T130009
CREATED:20251221T171208Z
LAST-MODIFIED:20251221T171208Z
UID:965-1782565200-1782579600@humangaymale.com
SUMMARY:Brighton
DESCRIPTION:
URL:https://humangaymale.com/calendar/brighton-6
CATEGORIES:Social
END:VEVENT
BEGIN:VEVENT
DTSTART;TZID=Europe/London:20260628T130000
DTEND;TZID=Europe/London:20260628T180000
DTSTAMP:20260423T130009
CREATED:20251221T171447Z
LAST-MODIFIED:20251221T171447Z
UID:976-1782651600-1782669600@humangaymale.com
SUMMARY:Birmingham
DESCRIPTION:
URL:https://humangaymale.com/calendar/birmingham-5
CATEGORIES:Social
END:VEVENT
END:VCALENDAR