BEGIN:VCALENDAR
VERSION:2.0
PRODID:-//HumanGayMale - ECPv6.15.20//NONSGML v1.0//EN
CALSCALE:GREGORIAN
METHOD:PUBLISH
X-WR-CALNAME:HumanGayMale
X-ORIGINAL-URL:https://humangaymale.com
X-WR-CALDESC:Events for HumanGayMale
REFRESH-INTERVAL;VALUE=DURATION:PT1H
X-Robots-Tag:noindex
X-PUBLISHED-TTL:PT1H
BEGIN:VTIMEZONE
TZID:Europe/London
BEGIN:DAYLIGHT
TZOFFSETFROM:+0000
TZOFFSETTO:+0100
TZNAME:BST
DTSTART:20240331T010000
END:DAYLIGHT
BEGIN:STANDARD
TZOFFSETFROM:+0100
TZOFFSETTO:+0000
TZNAME:GMT
DTSTART:20241027T010000
END:STANDARD
BEGIN:DAYLIGHT
TZOFFSETFROM:+0000
TZOFFSETTO:+0100
TZNAME:BST
DTSTART:20250330T010000
END:DAYLIGHT
BEGIN:STANDARD
TZOFFSETFROM:+0100
TZOFFSETTO:+0000
TZNAME:GMT
DTSTART:20251026T010000
END:STANDARD
BEGIN:DAYLIGHT
TZOFFSETFROM:+0000
TZOFFSETTO:+0100
TZNAME:BST
DTSTART:20260329T010000
END:DAYLIGHT
BEGIN:STANDARD
TZOFFSETFROM:+0100
TZOFFSETTO:+0000
TZNAME:GMT
DTSTART:20261025T010000
END:STANDARD
BEGIN:DAYLIGHT
TZOFFSETFROM:+0000
TZOFFSETTO:+0100
TZNAME:BST
DTSTART:20270328T010000
END:DAYLIGHT
BEGIN:STANDARD
TZOFFSETFROM:+0100
TZOFFSETTO:+0000
TZNAME:GMT
DTSTART:20271031T010000
END:STANDARD
END:VTIMEZONE
BEGIN:VEVENT
DTSTART;TZID=Europe/London:20260418T130000
DTEND;TZID=Europe/London:20260418T180000
DTSTAMP:20260419T144650
CREATED:20251221T170942Z
LAST-MODIFIED:20251221T170942Z
UID:931-1776517200-1776535200@humangaymale.com
SUMMARY:Manchester
DESCRIPTION:
URL:https://humangaymale.com/calendar/manchester-4
CATEGORIES:Social
END:VEVENT
BEGIN:VEVENT
DTSTART;TZID=Europe/London:20260418T090000
DTEND;TZID=Europe/London:20260418T180000
DTSTAMP:20260419T144650
CREATED:20251221T171949Z
LAST-MODIFIED:20251230T231026Z
UID:993-1776502800-1776535200@humangaymale.com
SUMMARY:HGM stand at LGB Alliance Conference
DESCRIPTION:We’ll be exhibiting at the LGB Alliance conference in London. Come and say hello if you’re there too.
URL:https://humangaymale.com/calendar/hgm-stand-at-lgb-alliance-conference
LOCATION:London
CATEGORIES:Exhibition Stand
END:VEVENT
BEGIN:VEVENT
DTSTART;VALUE=DATE:20260403
DTEND;VALUE=DATE:20260406
DTSTAMP:20260419T144650
CREATED:20260209T092039Z
LAST-MODIFIED:20260209T093833Z
UID:1064-1775174400-1775433599@humangaymale.com
SUMMARY:Glastonbury Gay Men's Gathering 2026
DESCRIPTION:A repeat of last year’s successful men-only gathering. \nEaster Weekend\nFri 3 April 7pm to Sun 5 April 5pm\nGlastonbury\, Somerset UK. \nFurther details to follow soon. \n  \nCommunity Event \nHosted by members of the wider HGM community
URL:https://humangaymale.com/calendar/glastonbury-gay-mens-gathering-2026
LOCATION:Glastonbury\, United Kingdom
END:VEVENT
BEGIN:VEVENT
DTSTART;TZID=Europe/London:20260325T180000
DTEND;TZID=Europe/London:20260325T230000
DTSTAMP:20260419T144650
CREATED:20251221T171030Z
LAST-MODIFIED:20251221T171030Z
UID:949-1774461600-1774479600@humangaymale.com
SUMMARY:London
DESCRIPTION:
URL:https://humangaymale.com/calendar/london-2
CATEGORIES:Social
END:VEVENT
BEGIN:VEVENT
DTSTART;TZID=Europe/London:20260322T130000
DTEND;TZID=Europe/London:20260322T180000
DTSTAMP:20260419T144650
CREATED:20251221T170942Z
LAST-MODIFIED:20251221T170942Z
UID:930-1774184400-1774202400@humangaymale.com
SUMMARY:Manchester
DESCRIPTION:
URL:https://humangaymale.com/calendar/manchester-3
CATEGORIES:Social
END:VEVENT
BEGIN:VEVENT
DTSTART;TZID=Europe/London:20260321T133000
DTEND;TZID=Europe/London:20260321T180000
DTSTAMP:20260419T144650
CREATED:20251221T171702Z
LAST-MODIFIED:20260221T134120Z
UID:984-1774099800-1774116000@humangaymale.com
SUMMARY:Glasgow
DESCRIPTION:HumanGayMale Scotland
URL:https://humangaymale.com/calendar/glasgow
CATEGORIES:Social
END:VEVENT
BEGIN:VEVENT
DTSTART;TZID=Europe/London:20260314T130000
DTEND;TZID=Europe/London:20260314T180000
DTSTAMP:20260419T144650
CREATED:20251221T171409Z
LAST-MODIFIED:20251222T185445Z
UID:973-1773493200-1773511200@humangaymale.com
SUMMARY:Birmingham
DESCRIPTION:
URL:https://humangaymale.com/calendar/birmingham-3
CATEGORIES:Social
END:VEVENT
BEGIN:VEVENT
DTSTART;TZID=Europe/London:20260314T110000
DTEND;TZID=Europe/London:20260314T130000
DTSTAMP:20260419T144650
CREATED:20251221T170949Z
LAST-MODIFIED:20251221T170949Z
UID:941-1773486000-1773493200@humangaymale.com
SUMMARY:London - Guided Walk
DESCRIPTION:
URL:https://humangaymale.com/calendar/london-guided-walk-2
CATEGORIES:Guided Walk
END:VEVENT
BEGIN:VEVENT
DTSTART;TZID=Europe/London:20260307T130000
DTEND;TZID=Europe/London:20260307T170000
DTSTAMP:20260419T144650
CREATED:20251221T171153Z
LAST-MODIFIED:20260117T180558Z
UID:962-1772888400-1772902800@humangaymale.com
SUMMARY:Brighton
DESCRIPTION:
URL:https://humangaymale.com/calendar/brighton-3
CATEGORIES:Social
END:VEVENT
BEGIN:VEVENT
DTSTART;TZID=Europe/London:20260224T180000
DTEND;TZID=Europe/London:20260224T230000
DTSTAMP:20260419T144650
CREATED:20251221T171030Z
LAST-MODIFIED:20251221T171030Z
UID:948-1771956000-1771974000@humangaymale.com
SUMMARY:London
DESCRIPTION:
URL:https://humangaymale.com/calendar/london
CATEGORIES:Social
END:VEVENT
BEGIN:VEVENT
DTSTART;TZID=Europe/London:20260222T130000
DTEND;TZID=Europe/London:20260222T180000
DTSTAMP:20260419T144650
CREATED:20251221T171409Z
LAST-MODIFIED:20251221T171409Z
UID:972-1771765200-1771783200@humangaymale.com
SUMMARY:Birmingham
DESCRIPTION:
URL:https://humangaymale.com/calendar/birmingham-2
CATEGORIES:Social
END:VEVENT
BEGIN:VEVENT
DTSTART;TZID=Europe/London:20260221T130000
DTEND;TZID=Europe/London:20260221T180000
DTSTAMP:20260419T144650
CREATED:20251221T171702Z
LAST-MODIFIED:20260112T193318Z
UID:983-1771678800-1771696800@humangaymale.com
SUMMARY:Edinburgh
DESCRIPTION:HumanGayMale Scotland
URL:https://humangaymale.com/calendar/edinburgh
LOCATION:Edinburgh
CATEGORIES:Social
END:VEVENT
BEGIN:VEVENT
DTSTART;TZID=Europe/London:20260221T130000
DTEND;TZID=Europe/London:20260221T180000
DTSTAMP:20260419T144650
CREATED:20251221T170942Z
LAST-MODIFIED:20251221T170942Z
UID:929-1771678800-1771696800@humangaymale.com
SUMMARY:Manchester
DESCRIPTION:
URL:https://humangaymale.com/calendar/manchester-2
CATEGORIES:Social
END:VEVENT
BEGIN:VEVENT
DTSTART;TZID=Europe/London:20260215T130000
DTEND;TZID=Europe/London:20260215T170000
DTSTAMP:20260419T144650
CREATED:20251221T171153Z
LAST-MODIFIED:20251221T171153Z
UID:961-1771160400-1771174800@humangaymale.com
SUMMARY:Brighton
DESCRIPTION:
URL:https://humangaymale.com/calendar/brighton-2
CATEGORIES:Social
END:VEVENT
BEGIN:VEVENT
DTSTART;TZID=Europe/London:20260131T190000
DTEND;TZID=Europe/London:20260131T230000
DTSTAMP:20260419T144650
CREATED:20251221T171029Z
LAST-MODIFIED:20251230T231220Z
UID:947-1769886000-1769900400@humangaymale.com
SUMMARY:Post-Conference Social
DESCRIPTION:London
URL:https://humangaymale.com/calendar/post-conference-social
LOCATION:London
CATEGORIES:Social
END:VEVENT
BEGIN:VEVENT
DTSTART;TZID=Europe/London:20260131T083000
DTEND;TZID=Europe/London:20260131T190000
DTSTAMP:20260419T144650
CREATED:20251221T170042Z
LAST-MODIFIED:20251230T231308Z
UID:925-1769848200-1769886000@humangaymale.com
SUMMARY:Gay Men's Conference 2026
DESCRIPTION:Our second annual conference\, taking place in central London.
URL:https://humangaymale.com/calendar/gay-mens-conference-2026-2
LOCATION:London
CATEGORIES:Conference
END:VEVENT
BEGIN:VEVENT
DTSTART;TZID=Europe/London:20260124T130000
DTEND;TZID=Europe/London:20260124T170000
DTSTAMP:20260419T144650
CREATED:20251221T171153Z
LAST-MODIFIED:20251221T171153Z
UID:960-1769259600-1769274000@humangaymale.com
SUMMARY:Brighton
DESCRIPTION:
URL:https://humangaymale.com/calendar/brighton
CATEGORIES:Social
END:VEVENT
BEGIN:VEVENT
DTSTART;TZID=Europe/London:20260118T130000
DTEND;TZID=Europe/London:20260118T180000
DTSTAMP:20260419T144650
CREATED:20251221T171409Z
LAST-MODIFIED:20251221T171409Z
UID:971-1768741200-1768759200@humangaymale.com
SUMMARY:Birmingham
DESCRIPTION:
URL:https://humangaymale.com/calendar/birmingham
CATEGORIES:Social
END:VEVENT
BEGIN:VEVENT
DTSTART;TZID=Europe/London:20260118T130000
DTEND;TZID=Europe/London:20260118T180000
DTSTAMP:20260419T144650
CREATED:20251221T170942Z
LAST-MODIFIED:20251221T170942Z
UID:928-1768741200-1768759200@humangaymale.com
SUMMARY:Manchester
DESCRIPTION:
URL:https://humangaymale.com/calendar/manchester
CATEGORIES:Social
END:VEVENT
BEGIN:VEVENT
DTSTART;TZID=Europe/London:20260117T110000
DTEND;TZID=Europe/London:20260117T130000
DTSTAMP:20260419T144650
CREATED:20251221T170949Z
LAST-MODIFIED:20251221T170949Z
UID:940-1768647600-1768654800@humangaymale.com
SUMMARY:London - Guided Walk
DESCRIPTION:
URL:https://humangaymale.com/calendar/london-guided-walk
CATEGORIES:Guided Walk
END:VEVENT
BEGIN:VEVENT
DTSTART;TZID=Europe/London:20251230T150000
DTEND;TZID=Europe/London:20251230T210000
DTSTAMP:20260419T144650
CREATED:20251222T072214Z
LAST-MODIFIED:20251222T072214Z
UID:1003-1767106800-1767128400@humangaymale.com
SUMMARY:London
DESCRIPTION:
URL:https://humangaymale.com/calendar/london-10
LOCATION:London
CATEGORIES:Social
END:VEVENT
BEGIN:VEVENT
DTSTART;TZID=Europe/London:20251220T130000
DTEND;TZID=Europe/London:20251220T180000
DTSTAMP:20260419T144650
CREATED:20251216T110044Z
LAST-MODIFIED:20251216T110044Z
UID:843-1766235600-1766253600@humangaymale.com
SUMMARY:Manchester December Meet Up
DESCRIPTION:
URL:https://humangaymale.com/calendar/manchester-december-meet-up
END:VEVENT
END:VCALENDAR