BEGIN:VCALENDAR
VERSION:2.0
PRODID:-//HumanGayMale - ECPv6.15.20//NONSGML v1.0//EN
CALSCALE:GREGORIAN
METHOD:PUBLISH
X-WR-CALNAME:HumanGayMale
X-ORIGINAL-URL:https://humangaymale.com
X-WR-CALDESC:Events for HumanGayMale
REFRESH-INTERVAL;VALUE=DURATION:PT1H
X-Robots-Tag:noindex
X-PUBLISHED-TTL:PT1H
BEGIN:VTIMEZONE
TZID:Europe/London
BEGIN:DAYLIGHT
TZOFFSETFROM:+0000
TZOFFSETTO:+0100
TZNAME:BST
DTSTART:20250330T010000
END:DAYLIGHT
BEGIN:STANDARD
TZOFFSETFROM:+0100
TZOFFSETTO:+0000
TZNAME:GMT
DTSTART:20251026T010000
END:STANDARD
BEGIN:DAYLIGHT
TZOFFSETFROM:+0000
TZOFFSETTO:+0100
TZNAME:BST
DTSTART:20260329T010000
END:DAYLIGHT
BEGIN:STANDARD
TZOFFSETFROM:+0100
TZOFFSETTO:+0000
TZNAME:GMT
DTSTART:20261025T010000
END:STANDARD
BEGIN:DAYLIGHT
TZOFFSETFROM:+0000
TZOFFSETTO:+0100
TZNAME:BST
DTSTART:20270328T010000
END:DAYLIGHT
BEGIN:STANDARD
TZOFFSETFROM:+0100
TZOFFSETTO:+0000
TZNAME:GMT
DTSTART:20271031T010000
END:STANDARD
END:VTIMEZONE
BEGIN:VEVENT
DTSTART;TZID=Europe/London:20261010T130000
DTEND;TZID=Europe/London:20261010T170000
DTSTAMP:20260421T193144
CREATED:20251221T171208Z
LAST-MODIFIED:20251223T132507Z
UID:968-1791637200-1791651600@humangaymale.com
SUMMARY:Brighton
DESCRIPTION:
URL:https://humangaymale.com/calendar/brighton-8
CATEGORIES:Social
END:VEVENT
BEGIN:VEVENT
DTSTART;TZID=Europe/London:20261017T130000
DTEND;TZID=Europe/London:20261017T180000
DTSTAMP:20260421T193144
CREATED:20251221T170946Z
LAST-MODIFIED:20251221T170946Z
UID:937-1792242000-1792260000@humangaymale.com
SUMMARY:Manchester
DESCRIPTION:
URL:https://humangaymale.com/calendar/manchester-9
CATEGORIES:Social
END:VEVENT
BEGIN:VEVENT
DTSTART;TZID=Europe/London:20261024T133000
DTEND;TZID=Europe/London:20261024T180000
DTSTAMP:20260421T193144
CREATED:20251221T171903Z
LAST-MODIFIED:20260404T060546Z
UID:990-1792848600-1792864800@humangaymale.com
SUMMARY:Glasgow
DESCRIPTION:HumanGayMale Scotland
URL:https://humangaymale.com/calendar/glasgow-3
CATEGORIES:Social
END:VEVENT
BEGIN:VEVENT
DTSTART;TZID=Europe/London:20261025T130000
DTEND;TZID=Europe/London:20261025T180000
DTSTAMP:20260421T193144
CREATED:20251221T171647Z
LAST-MODIFIED:20251221T171647Z
UID:980-1792933200-1792951200@humangaymale.com
SUMMARY:Birmingham
DESCRIPTION:
URL:https://humangaymale.com/calendar/birmingham-9
CATEGORIES:Social
END:VEVENT
BEGIN:VEVENT
DTSTART;TZID=Europe/London:20261031T180000
DTEND;TZID=Europe/London:20261031T230000
DTSTAMP:20260421T193144
CREATED:20251221T171128Z
LAST-MODIFIED:20251221T171128Z
UID:956-1793469600-1793487600@humangaymale.com
SUMMARY:Halloween Party (London)
DESCRIPTION:
URL:https://humangaymale.com/calendar/halloween-party-london
CATEGORIES:Social
END:VEVENT
BEGIN:VEVENT
DTSTART;TZID=Europe/London:20261114T130000
DTEND;TZID=Europe/London:20261114T170000
DTSTAMP:20260421T193144
CREATED:20251221T171209Z
LAST-MODIFIED:20251221T171209Z
UID:969-1794661200-1794675600@humangaymale.com
SUMMARY:Brighton
DESCRIPTION:
URL:https://humangaymale.com/calendar/brighton-9
CATEGORIES:Social
END:VEVENT
BEGIN:VEVENT
DTSTART;TZID=Europe/London:20261114T133000
DTEND;TZID=Europe/London:20261114T180000
DTSTAMP:20260421T193144
CREATED:20251221T171903Z
LAST-MODIFIED:20260404T060551Z
UID:991-1794663000-1794679200@humangaymale.com
SUMMARY:Edinburgh
DESCRIPTION:HumanGayMale Scotland
URL:https://humangaymale.com/calendar/edinburgh-4
CATEGORIES:Social
END:VEVENT
BEGIN:VEVENT
DTSTART;TZID=Europe/London:20261115T130000
DTEND;TZID=Europe/London:20261115T180000
DTSTAMP:20260421T193144
CREATED:20251221T170948Z
LAST-MODIFIED:20251221T170948Z
UID:938-1794747600-1794765600@humangaymale.com
SUMMARY:Manchester
DESCRIPTION:
URL:https://humangaymale.com/calendar/manchester-10
CATEGORIES:Social
END:VEVENT
BEGIN:VEVENT
DTSTART;TZID=Europe/London:20261121T130000
DTEND;TZID=Europe/London:20261121T180000
DTSTAMP:20260421T193144
CREATED:20251221T171648Z
LAST-MODIFIED:20251221T171648Z
UID:981-1795266000-1795284000@humangaymale.com
SUMMARY:Birmingham
DESCRIPTION:
URL:https://humangaymale.com/calendar/birmingham-10
CATEGORIES:Social
END:VEVENT
BEGIN:VEVENT
DTSTART;TZID=Europe/London:20261125T180000
DTEND;TZID=Europe/London:20261125T180000
DTSTAMP:20260421T193144
CREATED:20251221T171129Z
LAST-MODIFIED:20251221T171129Z
UID:957-1795629600-1795629600@humangaymale.com
SUMMARY:London
DESCRIPTION:
URL:https://humangaymale.com/calendar/london-8
CATEGORIES:Social
END:VEVENT
BEGIN:VEVENT
DTSTART;TZID=Europe/London:20261213T130000
DTEND;TZID=Europe/London:20261213T170000
DTSTAMP:20260421T193144
CREATED:20251221T171408Z
LAST-MODIFIED:20251221T171408Z
UID:970-1797166800-1797181200@humangaymale.com
SUMMARY:Brighton
DESCRIPTION:
URL:https://humangaymale.com/calendar/brighton-10
CATEGORIES:Social
END:VEVENT
BEGIN:VEVENT
DTSTART;TZID=Europe/London:20261219T130000
DTEND;TZID=Europe/London:20261219T180000
DTSTAMP:20260421T193144
CREATED:20251221T170948Z
LAST-MODIFIED:20251221T170948Z
UID:939-1797685200-1797703200@humangaymale.com
SUMMARY:Manchester
DESCRIPTION:
URL:https://humangaymale.com/calendar/manchester-11
CATEGORIES:Social
END:VEVENT
BEGIN:VEVENT
DTSTART;TZID=Europe/London:20261219T133000
DTEND;TZID=Europe/London:20261219T180000
DTSTAMP:20260421T193144
CREATED:20251221T171903Z
LAST-MODIFIED:20260404T060558Z
UID:992-1797687000-1797703200@humangaymale.com
SUMMARY:Glasgow
DESCRIPTION:HumanGayMale Scotland
URL:https://humangaymale.com/calendar/glasgow-4
CATEGORIES:Social
END:VEVENT
BEGIN:VEVENT
DTSTART;TZID=Europe/London:20261220T130000
DTEND;TZID=Europe/London:20261220T180000
DTSTAMP:20260421T193144
CREATED:20251221T171648Z
LAST-MODIFIED:20251231T144312Z
UID:982-1797771600-1797789600@humangaymale.com
SUMMARY:Birmingham (TBC)
DESCRIPTION:Christmas Lunch – date to be confirmed. Lunch needs to be pre-booked but option to join later just for drinks / social.
URL:https://humangaymale.com/calendar/birmingham-11
CATEGORIES:Social
END:VEVENT
BEGIN:VEVENT
DTSTART;TZID=Europe/London:20261228T150000
DTEND;TZID=Europe/London:20261228T210000
DTSTAMP:20260421T193144
CREATED:20251221T171129Z
LAST-MODIFIED:20251221T171129Z
UID:958-1798470000-1798491600@humangaymale.com
SUMMARY:London
DESCRIPTION:
URL:https://humangaymale.com/calendar/london-9
CATEGORIES:Social
END:VEVENT
END:VCALENDAR