BEGIN:VCALENDAR
VERSION:2.0
PRODID:-//HumanGayMale - ECPv6.15.20//NONSGML v1.0//EN
CALSCALE:GREGORIAN
METHOD:PUBLISH
X-ORIGINAL-URL:https://humangaymale.com
X-WR-CALDESC:Events for HumanGayMale
REFRESH-INTERVAL;VALUE=DURATION:PT1H
X-Robots-Tag:noindex
X-PUBLISHED-TTL:PT1H
BEGIN:VTIMEZONE
TZID:Europe/London
BEGIN:DAYLIGHT
TZOFFSETFROM:+0000
TZOFFSETTO:+0100
TZNAME:BST
DTSTART:20250330T010000
END:DAYLIGHT
BEGIN:STANDARD
TZOFFSETFROM:+0100
TZOFFSETTO:+0000
TZNAME:GMT
DTSTART:20251026T010000
END:STANDARD
BEGIN:DAYLIGHT
TZOFFSETFROM:+0000
TZOFFSETTO:+0100
TZNAME:BST
DTSTART:20260329T010000
END:DAYLIGHT
BEGIN:STANDARD
TZOFFSETFROM:+0100
TZOFFSETTO:+0000
TZNAME:GMT
DTSTART:20261025T010000
END:STANDARD
BEGIN:DAYLIGHT
TZOFFSETFROM:+0000
TZOFFSETTO:+0100
TZNAME:BST
DTSTART:20270328T010000
END:DAYLIGHT
BEGIN:STANDARD
TZOFFSETFROM:+0100
TZOFFSETTO:+0000
TZNAME:GMT
DTSTART:20271031T010000
END:STANDARD
END:VTIMEZONE
BEGIN:VEVENT
DTSTART;TZID=Europe/London:20260719T130000
DTEND;TZID=Europe/London:20260719T180000
DTSTAMP:20260423T112220
CREATED:20251221T170945Z
LAST-MODIFIED:20251221T170945Z
UID:934-1784466000-1784484000@humangaymale.com
SUMMARY:Manchester
DESCRIPTION:
URL:https://humangaymale.com/calendar/manchester-7
CATEGORIES:Social
END:VEVENT
BEGIN:VEVENT
DTSTART;TZID=Europe/London:20260725T130000
DTEND;TZID=Europe/London:20260725T180000
DTSTAMP:20260423T112220
CREATED:20251221T171447Z
LAST-MODIFIED:20251221T171447Z
UID:977-1784984400-1785002400@humangaymale.com
SUMMARY:Birmingham
DESCRIPTION:
URL:https://humangaymale.com/calendar/birmingham-6
CATEGORIES:Social
END:VEVENT
END:VCALENDAR