BEGIN:VCALENDAR
VERSION:2.0
PRODID:-//HumanGayMale - ECPv6.15.20//NONSGML v1.0//EN
CALSCALE:GREGORIAN
METHOD:PUBLISH
X-ORIGINAL-URL:https://humangaymale.com
X-WR-CALDESC:Events for HumanGayMale
REFRESH-INTERVAL;VALUE=DURATION:PT1H
X-Robots-Tag:noindex
X-PUBLISHED-TTL:PT1H
BEGIN:VTIMEZONE
TZID:Europe/London
BEGIN:DAYLIGHT
TZOFFSETFROM:+0000
TZOFFSETTO:+0100
TZNAME:BST
DTSTART:20250330T010000
END:DAYLIGHT
BEGIN:STANDARD
TZOFFSETFROM:+0100
TZOFFSETTO:+0000
TZNAME:GMT
DTSTART:20251026T010000
END:STANDARD
BEGIN:DAYLIGHT
TZOFFSETFROM:+0000
TZOFFSETTO:+0100
TZNAME:BST
DTSTART:20260329T010000
END:DAYLIGHT
BEGIN:STANDARD
TZOFFSETFROM:+0100
TZOFFSETTO:+0000
TZNAME:GMT
DTSTART:20261025T010000
END:STANDARD
BEGIN:DAYLIGHT
TZOFFSETFROM:+0000
TZOFFSETTO:+0100
TZNAME:BST
DTSTART:20270328T010000
END:DAYLIGHT
BEGIN:STANDARD
TZOFFSETFROM:+0100
TZOFFSETTO:+0000
TZNAME:GMT
DTSTART:20271031T010000
END:STANDARD
END:VTIMEZONE
BEGIN:VEVENT
DTSTART;TZID=Europe/London:20260801T130000
DTEND;TZID=Europe/London:20260801T170000
DTSTAMP:20260423T112227
CREATED:20251221T171208Z
LAST-MODIFIED:20251221T171208Z
UID:966-1785589200-1785603600@humangaymale.com
SUMMARY:Alternative to Brighton Pride
DESCRIPTION:
URL:https://humangaymale.com/calendar/alternative-to-brighton-pride
CATEGORIES:Alternative to Pride
END:VEVENT
BEGIN:VEVENT
DTSTART;TZID=Europe/London:20260829T130000
DTEND;TZID=Europe/London:20260829T180000
DTSTAMP:20260423T112227
CREATED:20251221T170946Z
LAST-MODIFIED:20251223T131943Z
UID:935-1788008400-1788026400@humangaymale.com
SUMMARY:Alternative to Manchester Pride
DESCRIPTION:
URL:https://humangaymale.com/calendar/alternative-to-manchester-pride
CATEGORIES:Alternative to Pride
END:VEVENT
END:VCALENDAR